Package: cytolib Version: 2.14.1 Command: /Library/Frameworks/R.framework/Resources/bin/R CMD INSTALL cytolib StartedAt: 2024-04-16 10:08:57 -0400 (Tue, 16 Apr 2024) EndedAt: 2024-04-16 10:11:10 -0400 (Tue, 16 Apr 2024) EllapsedTime: 132.5 seconds RetCode: 0 Status: OK