Package: customCMPdb Version: 1.12.0 Command: rm -rf customCMPdb.buildbin-libdir && mkdir customCMPdb.buildbin-libdir && /Users/biocbuild/BBS/utils/build-universal.sh customCMPdb_1.12.0.tar.gz /Library/Frameworks/R.framework/Resources/bin/R customCMPdb.buildbin-libdir StartedAt: 2024-04-18 08:53:01 -0400 (Thu, 18 Apr 2024) EndedAt: 2024-04-18 08:53:30 -0400 (Thu, 18 Apr 2024) EllapsedTime: 29.2 seconds RetCode: 0 Status: OK PackageFile: customCMPdb_1.12.0.tgz PackageFileSize: 733.8 KiB