Package: crlmm Version: 1.60.0 Command: /Library/Frameworks/R.framework/Resources/bin/R CMD check --install=check:crlmm.install-out.txt --library=/Library/Frameworks/R.framework/Resources/library --no-vignettes --timings crlmm_1.60.0.tar.gz StartedAt: 2024-04-17 10:34:44 -0400 (Wed, 17 Apr 2024) EndedAt: 2024-04-17 10:48:01 -0400 (Wed, 17 Apr 2024) EllapsedTime: 796.2 seconds RetCode: 0 Status: WARNINGS CheckDir: crlmm.Rcheck Warnings: 1