Package: crlmm Version: 1.60.0 Command: /Library/Frameworks/R.framework/Resources/bin/R CMD build --keep-empty-dirs --no-resave-data crlmm StartedAt: 2024-04-16 16:22:14 -0400 (Tue, 16 Apr 2024) EndedAt: 2024-04-16 16:25:35 -0400 (Tue, 16 Apr 2024) EllapsedTime: 201.2 seconds RetCode: 0 Status: OK PackageFile: crlmm_1.60.0.tar.gz PackageFileSize: 4.276 MiB