Package: crisprseekplus Version: 1.28.0 Command: /Library/Frameworks/R.framework/Resources/bin/R CMD check --install=check:crisprseekplus.install-out.txt --library=/Library/Frameworks/R.framework/Resources/library --no-vignettes --timings crisprseekplus_1.28.0.tar.gz StartedAt: 2024-04-17 10:28:09 -0400 (Wed, 17 Apr 2024) EndedAt: 2024-04-17 10:34:44 -0400 (Wed, 17 Apr 2024) EllapsedTime: 395.5 seconds RetCode: 0 Status: OK CheckDir: crisprseekplus.Rcheck Warnings: 0