Package: crisprDesign Version: 1.4.0 Command: /Library/Frameworks/R.framework/Resources/bin/R CMD INSTALL crisprDesign StartedAt: 2024-04-16 13:02:38 -0400 (Tue, 16 Apr 2024) EndedAt: 2024-04-16 13:03:43 -0400 (Tue, 16 Apr 2024) EllapsedTime: 64.6 seconds RetCode: 0 Status: OK