Package: cosmosR Version: 1.10.0 Command: /Library/Frameworks/R.framework/Resources/bin/R CMD build --keep-empty-dirs --no-resave-data cosmosR StartedAt: 2024-04-16 16:13:29 -0400 (Tue, 16 Apr 2024) EndedAt: 2024-04-16 16:13:50 -0400 (Tue, 16 Apr 2024) EllapsedTime: 21.4 seconds RetCode: 0 Status: OK PackageFile: cosmosR_1.10.0.tar.gz PackageFileSize: 3.365 MiB