Package: copa Version: 1.70.0 Command: /Library/Frameworks/R.framework/Resources/bin/R CMD INSTALL copa StartedAt: 2024-04-16 10:05:31 -0400 (Tue, 16 Apr 2024) EndedAt: 2024-04-16 10:05:39 -0400 (Tue, 16 Apr 2024) EllapsedTime: 7.1 seconds RetCode: 0 Status: OK