Package: conumee Version: 1.36.0 Command: rm -rf conumee.buildbin-libdir && mkdir conumee.buildbin-libdir && /Users/biocbuild/BBS/utils/build-universal.sh conumee_1.36.0.tar.gz /Library/Frameworks/R.framework/Resources/bin/R conumee.buildbin-libdir StartedAt: 2024-04-18 08:47:55 -0400 (Thu, 18 Apr 2024) EndedAt: 2024-04-18 08:54:43 -0400 (Thu, 18 Apr 2024) EllapsedTime: 408.4 seconds RetCode: 0 Status: OK PackageFile: conumee_1.36.0.tgz PackageFileSize: 2.134 MiB