Package: consensusDE Version: 1.20.0 Command: /Library/Frameworks/R.framework/Resources/bin/R CMD build --keep-empty-dirs --no-resave-data consensusDE StartedAt: 2024-04-16 16:01:43 -0400 (Tue, 16 Apr 2024) EndedAt: 2024-04-16 16:03:45 -0400 (Tue, 16 Apr 2024) EllapsedTime: 122.0 seconds RetCode: 0 Status: OK PackageFile: consensusDE_1.20.0.tar.gz PackageFileSize: 1.043 MiB