Package: combi Version: 1.14.0 Command: rm -rf combi.buildbin-libdir && mkdir combi.buildbin-libdir && /Users/biocbuild/BBS/utils/build-universal.sh combi_1.14.0.tar.gz /Library/Frameworks/R.framework/Resources/bin/R combi.buildbin-libdir StartedAt: 2024-04-18 08:45:19 -0400 (Thu, 18 Apr 2024) EndedAt: 2024-04-18 08:46:10 -0400 (Thu, 18 Apr 2024) EllapsedTime: 51.0 seconds RetCode: 0 Status: OK PackageFile: combi_1.14.0.tgz PackageFileSize: 1.702 MiB