Package: comapr Version: 1.6.1 Command: /Library/Frameworks/R.framework/Resources/bin/R CMD build --keep-empty-dirs --no-resave-data comapr StartedAt: 2024-04-16 15:51:21 -0400 (Tue, 16 Apr 2024) EndedAt: 2024-04-16 15:53:08 -0400 (Tue, 16 Apr 2024) EllapsedTime: 107.7 seconds RetCode: 0 Status: OK PackageFile: comapr_1.6.1.tar.gz PackageFileSize: 977.1 KiB