Package: coGPS Version: 1.46.0 Command: /Library/Frameworks/R.framework/Resources/bin/R CMD check --install=check:coGPS.install-out.txt --library=/Library/Frameworks/R.framework/Resources/library --no-vignettes --timings coGPS_1.46.0.tar.gz StartedAt: 2024-04-17 09:47:17 -0400 (Wed, 17 Apr 2024) EndedAt: 2024-04-17 09:47:49 -0400 (Wed, 17 Apr 2024) EllapsedTime: 32.5 seconds RetCode: 0 Status: OK CheckDir: coGPS.Rcheck Warnings: 0