Package: coGPS Version: 1.46.0 Command: /Library/Frameworks/R.framework/Resources/bin/R CMD build --keep-empty-dirs --no-resave-data coGPS StartedAt: 2024-04-16 15:50:38 -0400 (Tue, 16 Apr 2024) EndedAt: 2024-04-16 15:50:52 -0400 (Tue, 16 Apr 2024) EllapsedTime: 14.6 seconds RetCode: 0 Status: OK PackageFile: coGPS_1.46.0.tar.gz PackageFileSize: 1.761 MiB