Package: clustifyr Version: 1.14.0 Command: rm -rf clustifyr.buildbin-libdir && mkdir clustifyr.buildbin-libdir && /Users/biocbuild/BBS/utils/build-universal.sh clustifyr_1.14.0.tar.gz /Library/Frameworks/R.framework/Resources/bin/R clustifyr.buildbin-libdir StartedAt: 2024-04-18 08:42:32 -0400 (Thu, 18 Apr 2024) EndedAt: 2024-04-18 08:43:17 -0400 (Thu, 18 Apr 2024) EllapsedTime: 44.2 seconds RetCode: 0 Status: OK PackageFile: clustifyr_1.14.0.tgz PackageFileSize: 4.465 MiB