Package: clusterSeq Version: 1.26.0 Command: /Library/Frameworks/R.framework/Resources/bin/R CMD check --install=check:clusterSeq.install-out.txt --library=/Library/Frameworks/R.framework/Resources/library --no-vignettes --timings clusterSeq_1.26.0.tar.gz StartedAt: 2024-04-17 09:21:09 -0400 (Wed, 17 Apr 2024) EndedAt: 2024-04-17 09:25:48 -0400 (Wed, 17 Apr 2024) EllapsedTime: 278.9 seconds RetCode: 0 Status: OK CheckDir: clusterSeq.Rcheck Warnings: 0