Package: cliProfiler Version: 1.8.0 Command: /Library/Frameworks/R.framework/Resources/bin/R CMD INSTALL cliProfiler StartedAt: 2024-04-16 10:52:29 -0400 (Tue, 16 Apr 2024) EndedAt: 2024-04-16 10:53:11 -0400 (Tue, 16 Apr 2024) EllapsedTime: 42.7 seconds RetCode: 0 Status: OK