Package: cliProfiler Version: 1.8.0 Command: /Library/Frameworks/R.framework/Resources/bin/R CMD build --keep-empty-dirs --no-resave-data cliProfiler StartedAt: 2024-04-16 15:33:32 -0400 (Tue, 16 Apr 2024) EndedAt: 2024-04-16 15:34:58 -0400 (Tue, 16 Apr 2024) EllapsedTime: 85.8 seconds RetCode: 0 Status: OK PackageFile: cliProfiler_1.8.0.tar.gz PackageFileSize: 1.283 MiB