Package: circRNAprofiler Version: 1.16.0 Command: /Library/Frameworks/R.framework/Resources/bin/R CMD check --install=check:circRNAprofiler.install-out.txt --library=/Library/Frameworks/R.framework/Resources/library --no-vignettes --timings circRNAprofiler_1.16.0.tar.gz StartedAt: 2024-04-17 09:07:32 -0400 (Wed, 17 Apr 2024) EndedAt: 2024-04-17 09:19:46 -0400 (Wed, 17 Apr 2024) EllapsedTime: 733.7 seconds RetCode: 0 Status: OK CheckDir: circRNAprofiler.Rcheck Warnings: 0