Package: cicero Version: 1.20.0 Command: /Library/Frameworks/R.framework/Resources/bin/R CMD check --install=check:cicero.install-out.txt --library=/Library/Frameworks/R.framework/Resources/library --no-vignettes --timings cicero_1.20.0.tar.gz StartedAt: 2024-04-17 09:02:03 -0400 (Wed, 17 Apr 2024) EndedAt: 2024-04-17 09:11:50 -0400 (Wed, 17 Apr 2024) EllapsedTime: 586.8 seconds RetCode: 0 Status: OK CheckDir: cicero.Rcheck Warnings: 0