Package: chromDraw Version: 2.32.0 Command: /Library/Frameworks/R.framework/Resources/bin/R CMD build --keep-empty-dirs --no-resave-data chromDraw StartedAt: 2024-04-16 15:20:20 -0400 (Tue, 16 Apr 2024) EndedAt: 2024-04-16 15:21:40 -0400 (Tue, 16 Apr 2024) EllapsedTime: 80.2 seconds RetCode: 0 Status: OK PackageFile: chromDraw_2.32.0.tar.gz PackageFileSize: 2.228 MiB