Package: chromDraw Version: 2.32.0 Command: rm -rf chromDraw.buildbin-libdir && mkdir chromDraw.buildbin-libdir && /Users/biocbuild/BBS/utils/build-universal.sh chromDraw_2.32.0.tar.gz /Library/Frameworks/R.framework/Resources/bin/R chromDraw.buildbin-libdir StartedAt: 2024-04-18 08:39:22 -0400 (Thu, 18 Apr 2024) EndedAt: 2024-04-18 08:40:29 -0400 (Thu, 18 Apr 2024) EllapsedTime: 67.5 seconds RetCode: 0 Status: OK PackageFile: chromDraw_2.32.0.tgz PackageFileSize: 1.198 MiB