Package: chopsticks Version: 1.68.0 Command: rm -rf chopsticks.buildbin-libdir && mkdir chopsticks.buildbin-libdir && /Users/biocbuild/BBS/utils/build-universal.sh chopsticks_1.68.0.tar.gz /Library/Frameworks/R.framework/Resources/bin/R chopsticks.buildbin-libdir StartedAt: 2024-04-18 08:39:20 -0400 (Thu, 18 Apr 2024) EndedAt: 2024-04-18 08:39:48 -0400 (Thu, 18 Apr 2024) EllapsedTime: 27.7 seconds RetCode: 0 Status: OK PackageFile: chopsticks_1.68.0.tgz PackageFileSize: 5.393 MiB