Package: chihaya Version: 1.2.0 Command: /Library/Frameworks/R.framework/Resources/bin/R CMD INSTALL chihaya StartedAt: 2024-04-16 10:19:18 -0400 (Tue, 16 Apr 2024) EndedAt: 2024-04-16 10:20:01 -0400 (Tue, 16 Apr 2024) EllapsedTime: 42.9 seconds RetCode: 0 Status: OK