Package: cghMCR Version: 1.60.0 Command: /Library/Frameworks/R.framework/Resources/bin/R CMD INSTALL cghMCR StartedAt: 2024-04-16 12:17:46 -0400 (Tue, 16 Apr 2024) EndedAt: 2024-04-16 12:18:12 -0400 (Tue, 16 Apr 2024) EllapsedTime: 25.8 seconds RetCode: 0 Status: OK