Package: cghMCR Version: 1.60.0 Command: /Library/Frameworks/R.framework/Resources/bin/R CMD build --keep-empty-dirs --no-resave-data cghMCR StartedAt: 2024-04-16 15:09:30 -0400 (Tue, 16 Apr 2024) EndedAt: 2024-04-16 15:11:12 -0400 (Tue, 16 Apr 2024) EllapsedTime: 102.3 seconds RetCode: 0 Status: OK PackageFile: cghMCR_1.60.0.tar.gz PackageFileSize: 36.1 MiB