Package: cfTools Version: 1.2.0 Command: /Library/Frameworks/R.framework/Resources/bin/R CMD INSTALL cfTools StartedAt: 2024-04-16 13:01:10 -0400 (Tue, 16 Apr 2024) EndedAt: 2024-04-16 13:02:09 -0400 (Tue, 16 Apr 2024) EllapsedTime: 59.7 seconds RetCode: 0 Status: OK