Package: cfDNAPro Version: 1.8.0 Command: /Library/Frameworks/R.framework/Resources/bin/R CMD build --keep-empty-dirs --no-resave-data cfDNAPro StartedAt: 2024-04-16 15:07:26 -0400 (Tue, 16 Apr 2024) EndedAt: 2024-04-16 15:08:36 -0400 (Tue, 16 Apr 2024) EllapsedTime: 69.8 seconds RetCode: 0 Status: OK PackageFile: cfDNAPro_1.8.0.tar.gz PackageFileSize: 1.434 MiB