Package: cellity Version: 1.30.0 Command: /Library/Frameworks/R.framework/Resources/bin/R CMD check --install=check:cellity.install-out.txt --library=/Library/Frameworks/R.framework/Resources/library --no-vignettes --timings cellity_1.30.0.tar.gz StartedAt: 2024-04-17 08:23:51 -0400 (Wed, 17 Apr 2024) EndedAt: 2024-04-17 08:26:57 -0400 (Wed, 17 Apr 2024) EllapsedTime: 185.8 seconds RetCode: 0 Status: OK CheckDir: cellity.Rcheck Warnings: 0