Package: cellbaseR Version: 1.26.0 Maintainer: Mohammed OE Abdallah MaintainerEmail: melsiddieg at gmail.com git_url: https://git.bioconductor.org/packages/cellbaseR git_branch: RELEASE_3_18 git_last_commit: 0c5400a git_last_commit_date: 2023-11-23 00:36:54 -0400 (Thu, 23 Nov 2023)