Package: ccrepe Version: 1.38.1 Command: /Library/Frameworks/R.framework/Resources/bin/R CMD INSTALL ccrepe StartedAt: 2024-04-16 10:03:15 -0400 (Tue, 16 Apr 2024) EndedAt: 2024-04-16 10:03:18 -0400 (Tue, 16 Apr 2024) EllapsedTime: 3.0 seconds RetCode: 0 Status: OK