Package: ccfindR Version: 1.22.0 Command: /Library/Frameworks/R.framework/Resources/bin/R CMD INSTALL ccfindR StartedAt: 2024-04-16 11:02:13 -0400 (Tue, 16 Apr 2024) EndedAt: 2024-04-16 11:02:15 -0400 (Tue, 16 Apr 2024) EllapsedTime: 2.0 seconds RetCode: 1 Status: ERROR