Package: cbpManager Version: 1.10.0 Command: /Library/Frameworks/R.framework/Resources/bin/R CMD INSTALL cbpManager StartedAt: 2024-04-16 11:43:32 -0400 (Tue, 16 Apr 2024) EndedAt: 2024-04-16 11:43:45 -0400 (Tue, 16 Apr 2024) EllapsedTime: 13.0 seconds RetCode: 0 Status: OK