Package: cbpManager Version: 1.10.0 Command: /Library/Frameworks/R.framework/Resources/bin/R CMD check --install=check:cbpManager.install-out.txt --library=/Library/Frameworks/R.framework/Resources/library --no-vignettes --timings cbpManager_1.10.0.tar.gz StartedAt: 2024-04-17 08:14:18 -0400 (Wed, 17 Apr 2024) EndedAt: 2024-04-17 08:15:37 -0400 (Wed, 17 Apr 2024) EllapsedTime: 79.8 seconds RetCode: 0 Status: WARNINGS CheckDir: cbpManager.Rcheck Warnings: 1