Package: cbpManager Version: 1.10.0 Command: rm -rf cbpManager.buildbin-libdir && mkdir cbpManager.buildbin-libdir && /Users/biocbuild/BBS/utils/build-universal.sh cbpManager_1.10.0.tar.gz /Library/Frameworks/R.framework/Resources/bin/R cbpManager.buildbin-libdir StartedAt: 2024-04-18 08:33:10 -0400 (Thu, 18 Apr 2024) EndedAt: 2024-04-18 08:33:31 -0400 (Thu, 18 Apr 2024) EllapsedTime: 20.7 seconds RetCode: 0 Status: OK PackageFile: cbpManager_1.10.0.tgz PackageFileSize: 3.717 MiB