Package: cbaf Version: 1.24.0 Command: /Library/Frameworks/R.framework/Resources/bin/R CMD INSTALL cbaf StartedAt: 2024-04-16 12:40:08 -0400 (Tue, 16 Apr 2024) EndedAt: 2024-04-16 12:41:03 -0400 (Tue, 16 Apr 2024) EllapsedTime: 55.2 seconds RetCode: 0 Status: OK