Package: cbaf Version: 1.24.0 Maintainer: Arman Shahrisa MaintainerEmail: shahrisa.arman at hotmail.com git_url: https://git.bioconductor.org/packages/cbaf git_branch: RELEASE_3_18 git_last_commit: e7d2904 git_last_commit_date: 2023-10-24 11:00:03 -0400 (Tue, 24 Oct 2023)