Package: categoryCompare Version: 1.46.0 Command: /Library/Frameworks/R.framework/Resources/bin/R CMD check --install=check:categoryCompare.install-out.txt --library=/Library/Frameworks/R.framework/Resources/library --no-vignettes --timings categoryCompare_1.46.0.tar.gz StartedAt: 2024-04-17 08:10:26 -0400 (Wed, 17 Apr 2024) EndedAt: 2024-04-17 08:14:15 -0400 (Wed, 17 Apr 2024) EllapsedTime: 229.0 seconds RetCode: 0 Status: OK CheckDir: categoryCompare.Rcheck Warnings: 0