Package: casper Version: 2.36.0 Command: /Library/Frameworks/R.framework/Resources/bin/R CMD build --keep-empty-dirs --no-resave-data casper StartedAt: 2024-04-16 14:47:59 -0400 (Tue, 16 Apr 2024) EndedAt: 2024-04-16 14:49:41 -0400 (Tue, 16 Apr 2024) EllapsedTime: 102.0 seconds RetCode: 1 Status: ERROR PackageFile: None PackageFileSize: NA