Package: cancerclass Version: 1.46.0 Command: rm -rf cancerclass.buildbin-libdir && mkdir cancerclass.buildbin-libdir && /Users/biocbuild/BBS/utils/build-universal.sh cancerclass_1.46.0.tar.gz /Library/Frameworks/R.framework/Resources/bin/R cancerclass.buildbin-libdir StartedAt: 2024-04-18 08:31:36 -0400 (Thu, 18 Apr 2024) EndedAt: 2024-04-18 08:31:48 -0400 (Thu, 18 Apr 2024) EllapsedTime: 12.4 seconds RetCode: 0 Status: OK PackageFile: cancerclass_1.46.0.tgz PackageFileSize: 1.623 MiB