Package: branchpointer Version: 1.28.0 Command: /Library/Frameworks/R.framework/Resources/bin/R CMD check --install=check:branchpointer.install-out.txt --library=/Library/Frameworks/R.framework/Resources/library --no-vignettes --timings branchpointer_1.28.0.tar.gz StartedAt: 2024-04-17 07:39:06 -0400 (Wed, 17 Apr 2024) EndedAt: 2024-04-17 07:45:30 -0400 (Wed, 17 Apr 2024) EllapsedTime: 384.1 seconds RetCode: 0 Status: OK CheckDir: branchpointer.Rcheck Warnings: 0