Package: borealis Version: 1.6.0 Maintainer: Garrett Jenkinson MaintainerEmail: gargar934 at gmail.com git_url: https://git.bioconductor.org/packages/borealis git_branch: RELEASE_3_18 git_last_commit: 701604e git_last_commit_date: 2023-10-24 11:41:29 -0400 (Tue, 24 Oct 2023)