Package: blacksheepr Version: 1.16.0 Command: /Library/Frameworks/R.framework/Resources/bin/R CMD INSTALL blacksheepr StartedAt: 2024-04-16 12:17:01 -0400 (Tue, 16 Apr 2024) EndedAt: 2024-04-16 12:17:34 -0400 (Tue, 16 Apr 2024) EllapsedTime: 32.8 seconds RetCode: 0 Status: OK