Package: biotmle Version: 1.26.0 Command: /Library/Frameworks/R.framework/Resources/bin/R CMD INSTALL biotmle StartedAt: 2024-04-16 12:43:23 -0400 (Tue, 16 Apr 2024) EndedAt: 2024-04-16 12:43:55 -0400 (Tue, 16 Apr 2024) EllapsedTime: 32.1 seconds RetCode: 0 Status: OK