Package: biosigner Version: 1.30.0 Command: /Library/Frameworks/R.framework/Resources/bin/R CMD check --install=check:biosigner.install-out.txt --library=/Library/Frameworks/R.framework/Resources/library --no-vignettes --timings biosigner_1.30.0.tar.gz StartedAt: 2024-04-17 07:18:12 -0400 (Wed, 17 Apr 2024) EndedAt: 2024-04-17 07:24:09 -0400 (Wed, 17 Apr 2024) EllapsedTime: 357.1 seconds RetCode: 1 Status: ERROR CheckDir: biosigner.Rcheck Warnings: NA