Package: biosigner Version: 1.30.0 Command: /Library/Frameworks/R.framework/Resources/bin/R CMD build --keep-empty-dirs --no-resave-data biosigner StartedAt: 2024-04-16 14:24:50 -0400 (Tue, 16 Apr 2024) EndedAt: 2024-04-16 14:28:24 -0400 (Tue, 16 Apr 2024) EllapsedTime: 213.9 seconds RetCode: 0 Status: OK PackageFile: biosigner_1.30.0.tar.gz PackageFileSize: 4.561 MiB