Package: biosigner Version: 1.30.0 Command: rm -rf biosigner.buildbin-libdir && mkdir biosigner.buildbin-libdir && /Users/biocbuild/BBS/utils/build-universal.sh biosigner_1.30.0.tar.gz /Library/Frameworks/R.framework/Resources/bin/R biosigner.buildbin-libdir StartedAt: 2024-04-18 08:26:15 -0400 (Thu, 18 Apr 2024) EndedAt: 2024-04-18 08:26:59 -0400 (Thu, 18 Apr 2024) EllapsedTime: 43.4 seconds RetCode: 0 Status: OK PackageFile: biosigner_1.30.0.tgz PackageFileSize: 4.931 MiB