Package: biomaRt Version: 2.58.2 Command: /Library/Frameworks/R.framework/Resources/bin/R CMD check --install=check:biomaRt.install-out.txt --library=/Library/Frameworks/R.framework/Resources/library --no-vignettes --timings biomaRt_2.58.2.tar.gz StartedAt: 2024-04-17 07:12:50 -0400 (Wed, 17 Apr 2024) EndedAt: 2024-04-17 07:15:23 -0400 (Wed, 17 Apr 2024) EllapsedTime: 152.9 seconds RetCode: 0 Status: OK CheckDir: biomaRt.Rcheck Warnings: 0