Package: biomaRt Version: 2.58.2 Command: /Library/Frameworks/R.framework/Resources/bin/R CMD build --keep-empty-dirs --no-resave-data biomaRt StartedAt: 2024-04-16 14:21:48 -0400 (Tue, 16 Apr 2024) EndedAt: 2024-04-16 14:23:35 -0400 (Tue, 16 Apr 2024) EllapsedTime: 106.6 seconds RetCode: 0 Status: OK PackageFile: biomaRt_2.58.2.tar.gz PackageFileSize: 654.5 KiB