Package: biodbNcbi Version: 1.6.0 Command: rm -rf biodbNcbi.buildbin-libdir && mkdir biodbNcbi.buildbin-libdir && /Users/biocbuild/BBS/utils/build-universal.sh biodbNcbi_1.6.0.tar.gz /Library/Frameworks/R.framework/Resources/bin/R biodbNcbi.buildbin-libdir StartedAt: 2024-04-18 08:25:06 -0400 (Thu, 18 Apr 2024) EndedAt: 2024-04-18 08:25:23 -0400 (Thu, 18 Apr 2024) EllapsedTime: 17.1 seconds RetCode: 0 Status: OK PackageFile: biodbNcbi_1.6.0.tgz PackageFileSize: 1.135 MiB